Package: ExperimentSubset Version: 1.20.0 Command: /Library/Frameworks/R.framework/Resources/bin/R CMD INSTALL ExperimentSubset StartedAt: 2025-11-17 17:38:25 -0500 (Mon, 17 Nov 2025) EndedAt: 2025-11-17 17:38:38 -0500 (Mon, 17 Nov 2025) EllapsedTime: 13.1 seconds RetCode: 0 Status: OK