Package: ExperimentSubset Version: 1.20.0 Command: /Library/Frameworks/R.framework/Resources/bin/R CMD build --keep-empty-dirs --no-resave-data ExperimentSubset StartedAt: 2025-11-17 21:08:26 -0500 (Mon, 17 Nov 2025) EndedAt: 2025-11-17 21:08:45 -0500 (Mon, 17 Nov 2025) EllapsedTime: 19.2 seconds RetCode: 0 Status: OK PackageFile: ExperimentSubset_1.20.0.tar.gz PackageFileSize: 307.4 KiB