Package: ExperimentSubset Version: 1.20.0 Command: rm -rf ExperimentSubset.buildbin-libdir && mkdir ExperimentSubset.buildbin-libdir && /Users/biocbuild/BBS/utils/build-universal.sh ExperimentSubset_1.20.0.tar.gz /Library/Frameworks/R.framework/Resources/bin/R ExperimentSubset.buildbin-libdir StartedAt: 2025-11-18 15:32:32 -0500 (Tue, 18 Nov 2025) EndedAt: 2025-11-18 15:32:49 -0500 (Tue, 18 Nov 2025) EllapsedTime: 17.2 seconds RetCode: 0 Status: OK PackageFile: ExperimentSubset_1.20.0.tgz PackageFileSize: 710.5 KiB