Package: ExperimentHub Version: 3.0.0 Command: /Library/Frameworks/R.framework/Resources/bin/R CMD build --keep-empty-dirs --no-resave-data ExperimentHub StartedAt: 2025-11-02 17:03:11 -0500 (Sun, 02 Nov 2025) EndedAt: 2025-11-02 17:03:48 -0500 (Sun, 02 Nov 2025) EllapsedTime: 36.5 seconds RetCode: 0 Status: OK PackageFile: ExperimentHub_3.0.0.tar.gz PackageFileSize: 490.5 KiB