Package: ExperimentHub Version: 3.0.0 Command: rm -rf ExperimentHub.buildbin-libdir && mkdir ExperimentHub.buildbin-libdir && /Users/biocbuild/BBS/utils/build-universal.sh ExperimentHub_3.0.0.tar.gz /Library/Frameworks/R.framework/Resources/bin/R ExperimentHub.buildbin-libdir StartedAt: 2025-11-03 01:40:15 -0500 (Mon, 03 Nov 2025) EndedAt: 2025-11-03 01:40:37 -0500 (Mon, 03 Nov 2025) EllapsedTime: 21.9 seconds RetCode: 0 Status: OK PackageFile: ExperimentHub_3.0.0.tgz PackageFileSize: 543.5 KiB