Package: ExiMiR Version: 2.52.0 Command: /Library/Frameworks/R.framework/Resources/bin/R CMD build --keep-empty-dirs --no-resave-data ExiMiR StartedAt: 2025-11-03 16:59:41 -0500 (Mon, 03 Nov 2025) EndedAt: 2025-11-03 17:00:58 -0500 (Mon, 03 Nov 2025) EllapsedTime: 76.7 seconds RetCode: 0 Status: OK PackageFile: ExiMiR_2.52.0.tar.gz PackageFileSize: 1.504 MiB