Package: ExiMiR Version: 2.52.0 Command: /Library/Frameworks/R.framework/Resources/bin/R CMD INSTALL ExiMiR StartedAt: 2025-11-17 17:12:17 -0500 (Mon, 17 Nov 2025) EndedAt: 2025-11-17 17:12:19 -0500 (Mon, 17 Nov 2025) EllapsedTime: 2.3 seconds RetCode: 0 Status: OK