Package: ExiMiR Version: 2.52.0 Command: /Library/Frameworks/R.framework/Resources/bin/R CMD check --install=check:ExiMiR.install-out.txt --library=/Library/Frameworks/R.framework/Resources/library --no-vignettes --timings ExiMiR_2.52.0.tar.gz StartedAt: 2025-11-18 06:18:23 -0500 (Tue, 18 Nov 2025) EndedAt: 2025-11-18 06:18:52 -0500 (Tue, 18 Nov 2025) EllapsedTime: 28.2 seconds RetCode: 0 Status: OK CheckDir: ExiMiR.Rcheck Warnings: 0