Package: EpipwR Version: 1.3.0 Command: chmod a+r EpipwR -R && F:\biocbuild\bbs-3.22-bioc\R\bin\R.exe CMD build --keep-empty-dirs --no-resave-data EpipwR StartedAt: 2025-08-14 19:58:29 -0400 (Thu, 14 Aug 2025) EndedAt: 2025-08-14 19:58:55 -0400 (Thu, 14 Aug 2025) EllapsedTime: 26.1 seconds RetCode: 0 Status: OK PackageFile: EpipwR_1.3.0.tar.gz PackageFileSize: 122.6 KiB