Package: EpiTxDb Version: 1.21.2 Command: /Library/Frameworks/R.framework/Resources/bin/R CMD build --keep-empty-dirs --no-resave-data EpiTxDb StartedAt: 2025-10-03 16:57:29 -0400 (Fri, 03 Oct 2025) EndedAt: 2025-10-03 17:01:17 -0400 (Fri, 03 Oct 2025) EllapsedTime: 227.7 seconds RetCode: 0 Status: OK PackageFile: EpiTxDb_1.21.2.tar.gz PackageFileSize: 778.9 KiB