Package: EpiMix Version: 1.11.1 Command: /home/biocbuild/R/R/bin/R CMD INSTALL EpiMix StartedAt: 2025-10-20 20:58:46 -0000 (Mon, 20 Oct 2025) EndedAt: 2025-10-20 20:59:40 -0000 (Mon, 20 Oct 2025) EllapsedTime: 54.8 seconds RetCode: 0 Status: OK