Package: EpiMix Version: 1.11.1 Command: /home/biocbuild/R/R/bin/R CMD check --install=check:EpiMix.install-out.txt --library=/home/biocbuild/R/R/site-library --no-vignettes --timings EpiMix_1.11.1.tar.gz StartedAt: 2025-10-17 08:42:07 -0000 (Fri, 17 Oct 2025) EndedAt: 2025-10-17 09:22:07 -0000 (Fri, 17 Oct 2025) EllapsedTime: 2400.2 seconds RetCode: None Status: TIMEOUT CheckDir: EpiMix.Rcheck Warnings: NA