Package: EpiMix Version: 1.11.1 Command: /home/biocbuild/R/R/bin/R CMD build --keep-empty-dirs --no-resave-data EpiMix StartedAt: 2025-10-20 23:38:15 -0000 (Mon, 20 Oct 2025) EndedAt: 2025-10-20 23:52:47 -0000 (Mon, 20 Oct 2025) EllapsedTime: 872.4 seconds RetCode: 0 Status: OK PackageFile: EpiMix_1.11.1.tar.gz PackageFileSize: 2.633 MiB