Package: EpiMix Version: 1.11.1 Command: rm -rf EpiMix.buildbin-libdir && mkdir EpiMix.buildbin-libdir && F:\biocbuild\bbs-3.22-bioc\R\bin\R.exe CMD INSTALL --build --library=EpiMix.buildbin-libdir EpiMix_1.11.1.tar.gz StartedAt: 2025-08-15 10:13:54 -0400 (Fri, 15 Aug 2025) EndedAt: 2025-08-15 10:15:15 -0400 (Fri, 15 Aug 2025) EllapsedTime: 80.4 seconds RetCode: 0 Status: OK PackageFile: EpiMix_1.11.1.zip PackageFileSize: 1.917 MiB