Package: EpiDISH Version: 2.25.0 Command: /home/biocbuild/R/R/bin/R CMD INSTALL EpiDISH StartedAt: 2025-10-16 21:12:58 -0000 (Thu, 16 Oct 2025) EndedAt: 2025-10-16 21:13:21 -0000 (Thu, 16 Oct 2025) EllapsedTime: 22.4 seconds RetCode: 0 Status: OK