Package: EpiDISH Version: 2.25.0 Command: /home/biocbuild/R/R/bin/R CMD build --keep-empty-dirs --no-resave-data EpiDISH StartedAt: 2025-10-17 00:59:12 -0000 (Fri, 17 Oct 2025) EndedAt: 2025-10-17 00:59:33 -0000 (Fri, 17 Oct 2025) EllapsedTime: 21.0 seconds RetCode: 0 Status: OK PackageFile: EpiDISH_2.25.0.tar.gz PackageFileSize: 3.121 MiB