Package: EpiDISH Version: 2.25.0 Command: /Library/Frameworks/R.framework/Resources/bin/R CMD check --install=check:EpiDISH.install-out.txt --library=/Library/Frameworks/R.framework/Resources/library --no-vignettes --timings EpiDISH_2.25.0.tar.gz StartedAt: 2025-10-01 21:08:39 -0400 (Wed, 01 Oct 2025) EndedAt: 2025-10-01 21:09:43 -0400 (Wed, 01 Oct 2025) EllapsedTime: 64.2 seconds RetCode: 0 Status: OK CheckDir: EpiDISH.Rcheck Warnings: 0