Package: EpiDISH Version: 2.25.0 Command: /Library/Frameworks/R.framework/Resources/bin/R CMD build --keep-empty-dirs --no-resave-data EpiDISH StartedAt: 2025-10-01 16:53:27 -0400 (Wed, 01 Oct 2025) EndedAt: 2025-10-01 16:53:56 -0400 (Wed, 01 Oct 2025) EllapsedTime: 28.7 seconds RetCode: 0 Status: OK PackageFile: EpiDISH_2.25.0.tar.gz PackageFileSize: 3.1 MiB