Package: EpiDISH Version: 2.25.0 Command: rm -rf EpiDISH.buildbin-libdir && mkdir EpiDISH.buildbin-libdir && /Users/biocbuild/BBS/utils/build-universal.sh EpiDISH_2.25.0.tar.gz /Library/Frameworks/R.framework/Resources/bin/R EpiDISH.buildbin-libdir StartedAt: 2025-10-06 22:43:14 -0400 (Mon, 06 Oct 2025) EndedAt: 2025-10-06 22:43:18 -0400 (Mon, 06 Oct 2025) EllapsedTime: 4.1 seconds RetCode: 0 Status: OK PackageFile: EpiDISH_2.25.0.tgz PackageFileSize: 2.114 MiB