Package: EpiCompare Version: 1.13.2 Command: /home/biocbuild/R/R/bin/R CMD INSTALL EpiCompare StartedAt: 2025-10-16 22:26:13 -0000 (Thu, 16 Oct 2025) EndedAt: 2025-10-16 22:27:19 -0000 (Thu, 16 Oct 2025) EllapsedTime: 66.1 seconds RetCode: 0 Status: OK