Package: EpiCompare Version: 1.13.2 Command: /home/biocbuild/R/R/bin/R CMD build --keep-empty-dirs --no-resave-data EpiCompare StartedAt: 2025-10-17 00:57:59 -0000 (Fri, 17 Oct 2025) EndedAt: 2025-10-17 00:59:41 -0000 (Fri, 17 Oct 2025) EllapsedTime: 102.0 seconds RetCode: 0 Status: OK PackageFile: EpiCompare_1.13.2.tar.gz PackageFileSize: 1.946 MiB