Package: EpiCompare Version: 1.13.1 Command: chmod a+r EpiCompare -R && F:\biocbuild\bbs-3.22-bioc\R\bin\R.exe CMD build --keep-empty-dirs --no-resave-data EpiCompare StartedAt: 2025-08-14 19:56:33 -0400 (Thu, 14 Aug 2025) EndedAt: 2025-08-14 19:58:28 -0400 (Thu, 14 Aug 2025) EllapsedTime: 115.0 seconds RetCode: 0 Status: OK PackageFile: EpiCompare_1.13.1.tar.gz PackageFileSize: 1.871 MiB