Package: EpiCompare Version: 1.13.1 Command: rm -rf EpiCompare.buildbin-libdir && mkdir EpiCompare.buildbin-libdir && F:\biocbuild\bbs-3.22-bioc\R\bin\R.exe CMD INSTALL --build --library=EpiCompare.buildbin-libdir EpiCompare_1.13.1.tar.gz StartedAt: 2025-08-15 10:13:38 -0400 (Fri, 15 Aug 2025) EndedAt: 2025-08-15 10:15:01 -0400 (Fri, 15 Aug 2025) EllapsedTime: 83.0 seconds RetCode: 0 Status: OK PackageFile: EpiCompare_1.13.1.zip PackageFileSize: 1.664 MiB