Package: EpiCompare Version: 1.13.2 Command: /home/biocbuild/bbs-3.22-bioc/R/bin/R CMD INSTALL EpiCompare StartedAt: 2025-10-19 16:01:22 -0400 (Sun, 19 Oct 2025) EndedAt: 2025-10-19 16:02:15 -0400 (Sun, 19 Oct 2025) EllapsedTime: 52.7 seconds RetCode: 0 Status: OK