Package: EpiCompare Version: 1.13.2 Command: /home/biocbuild/bbs-3.22-bioc/R/bin/R CMD check --install=check:EpiCompare.install-out.txt --library=/home/biocbuild/bbs-3.22-bioc/R/site-library --timings EpiCompare_1.13.2.tar.gz StartedAt: 2025-10-19 23:34:47 -0400 (Sun, 19 Oct 2025) EndedAt: 2025-10-19 23:50:08 -0400 (Sun, 19 Oct 2025) EllapsedTime: 920.8 seconds RetCode: 0 Status: OK CheckDir: EpiCompare.Rcheck Warnings: 0