Package: EpiCompare Version: 1.13.2 Command: /Library/Frameworks/R.framework/Resources/bin/R CMD INSTALL EpiCompare StartedAt: 2025-10-19 15:53:26 -0400 (Sun, 19 Oct 2025) EndedAt: 2025-10-19 15:54:26 -0400 (Sun, 19 Oct 2025) EllapsedTime: 60.3 seconds RetCode: 0 Status: OK