Package: EpiCompare Version: 1.13.2 Command: /Library/Frameworks/R.framework/Resources/bin/R CMD build --keep-empty-dirs --no-resave-data EpiCompare StartedAt: 2025-10-19 17:04:53 -0400 (Sun, 19 Oct 2025) EndedAt: 2025-10-19 17:06:51 -0400 (Sun, 19 Oct 2025) EllapsedTime: 118.5 seconds RetCode: 0 Status: OK PackageFile: EpiCompare_1.13.2.tar.gz PackageFileSize: 1.872 MiB