Package: EnrichedHeatmap Version: 1.39.1 Command: chmod a+r EnrichedHeatmap -R && F:\biocbuild\bbs-3.22-bioc\R\bin\R.exe CMD build --keep-empty-dirs --no-resave-data EnrichedHeatmap StartedAt: 2025-08-14 19:54:44 -0400 (Thu, 14 Aug 2025) EndedAt: 2025-08-14 20:12:15 -0400 (Thu, 14 Aug 2025) EllapsedTime: 1051.4 seconds RetCode: 0 Status: OK PackageFile: EnrichedHeatmap_1.39.1.tar.gz PackageFileSize: 9.803 MiB