Package: EnrichedHeatmap Version: 1.40.0 Command: /Library/Frameworks/R.framework/Resources/bin/R CMD INSTALL EnrichedHeatmap StartedAt: 2025-11-17 17:16:39 -0500 (Mon, 17 Nov 2025) EndedAt: 2025-11-17 17:17:16 -0500 (Mon, 17 Nov 2025) EllapsedTime: 36.8 seconds RetCode: 0 Status: OK