Package: EnMCB Version: 1.21.0 Command: /home/biocbuild/R/R/bin/R CMD build --keep-empty-dirs --no-resave-data EnMCB StartedAt: 2025-10-20 23:34:42 -0000 (Mon, 20 Oct 2025) EndedAt: 2025-10-20 23:35:36 -0000 (Mon, 20 Oct 2025) EllapsedTime: 54.0 seconds RetCode: 0 Status: OK PackageFile: EnMCB_1.21.0.tar.gz PackageFileSize: 4.929 MiB