Package: EnMCB Version: 1.21.0 Command: F:\biocbuild\bbs-3.22-bioc\R\bin\R.exe CMD check --no-multiarch --install=check:EnMCB.install-out.txt --library=F:\biocbuild\bbs-3.22-bioc\R\library --no-vignettes --timings EnMCB_1.21.0.tar.gz StartedAt: 2025-08-15 02:57:13 -0400 (Fri, 15 Aug 2025) EndedAt: 2025-08-15 03:00:56 -0400 (Fri, 15 Aug 2025) EllapsedTime: 223.1 seconds RetCode: 0 Status: OK CheckDir: EnMCB.Rcheck Warnings: 0