Package: EnMCB Version: 1.21.0 Command: /home/biocbuild/bbs-3.22-bioc/R/bin/R CMD INSTALL EnMCB StartedAt: 2025-10-19 15:10:28 -0400 (Sun, 19 Oct 2025) EndedAt: 2025-10-19 15:10:44 -0400 (Sun, 19 Oct 2025) EllapsedTime: 16.7 seconds RetCode: 0 Status: OK