Package: EnMCB Version: 1.21.0 Command: /Library/Frameworks/R.framework/Resources/bin/R CMD INSTALL EnMCB StartedAt: 2025-10-21 15:13:51 -0400 (Tue, 21 Oct 2025) EndedAt: 2025-10-21 15:14:30 -0400 (Tue, 21 Oct 2025) EllapsedTime: 38.8 seconds RetCode: 0 Status: OK