Package: EnMCB Version: 1.21.0 Command: rm -rf EnMCB.buildbin-libdir && mkdir EnMCB.buildbin-libdir && /Users/biocbuild/BBS/utils/build-universal.sh EnMCB_1.21.0.tar.gz /Library/Frameworks/R.framework/Resources/bin/R EnMCB.buildbin-libdir StartedAt: 2025-10-22 02:23:39 -0400 (Wed, 22 Oct 2025) EndedAt: 2025-10-22 02:24:02 -0400 (Wed, 22 Oct 2025) EllapsedTime: 23.1 seconds RetCode: 0 Status: OK PackageFile: EnMCB_1.21.0.tgz PackageFileSize: 5.081 MiB