Package: EmpiricalBrownsMethod Version: 1.37.0 Command: /Library/Frameworks/R.framework/Resources/bin/R CMD check --install=check:EmpiricalBrownsMethod.install-out.txt --library=/Library/Frameworks/R.framework/Resources/library --no-vignettes --timings EmpiricalBrownsMethod_1.37.0.tar.gz StartedAt: 2025-10-19 21:59:27 -0400 (Sun, 19 Oct 2025) EndedAt: 2025-10-19 22:00:08 -0400 (Sun, 19 Oct 2025) EllapsedTime: 41.3 seconds RetCode: 0 Status: OK CheckDir: EmpiricalBrownsMethod.Rcheck Warnings: 0