Package: EmpiricalBrownsMethod Version: 1.37.0 Command: /Library/Frameworks/R.framework/Resources/bin/R CMD build --keep-empty-dirs --no-resave-data EmpiricalBrownsMethod StartedAt: 2025-10-19 17:03:34 -0400 (Sun, 19 Oct 2025) EndedAt: 2025-10-19 17:03:41 -0400 (Sun, 19 Oct 2025) EllapsedTime: 6.8 seconds RetCode: 0 Status: OK PackageFile: EmpiricalBrownsMethod_1.37.0.tar.gz PackageFileSize: 38.68 KiB