Package: EmpiricalBrownsMethod Version: 1.37.0 Command: rm -rf EmpiricalBrownsMethod.buildbin-libdir && mkdir EmpiricalBrownsMethod.buildbin-libdir && /Users/biocbuild/BBS/utils/build-universal.sh EmpiricalBrownsMethod_1.37.0.tar.gz /Library/Frameworks/R.framework/Resources/bin/R EmpiricalBrownsMethod.buildbin-libdir StartedAt: 2025-10-20 03:07:42 -0400 (Mon, 20 Oct 2025) EndedAt: 2025-10-20 03:07:47 -0400 (Mon, 20 Oct 2025) EllapsedTime: 4.6 seconds RetCode: 0 Status: OK PackageFile: EmpiricalBrownsMethod_1.37.0.tgz PackageFileSize: 51.36 KiB