Package: EWCE Version: 1.17.0 Command: /home/biocbuild/R/R/bin/R CMD build --keep-empty-dirs --no-resave-data EWCE StartedAt: 2025-10-17 01:05:12 -0000 (Fri, 17 Oct 2025) EndedAt: 2025-10-17 01:14:08 -0000 (Fri, 17 Oct 2025) EllapsedTime: 536.2 seconds RetCode: 0 Status: OK PackageFile: EWCE_1.17.0.tar.gz PackageFileSize: 1.712 MiB