Package: EWCE Version: 1.18.0 Command: /home/biocbuild/bbs-3.22-bioc/R/bin/R CMD INSTALL EWCE StartedAt: 2025-11-14 15:37:42 -0500 (Fri, 14 Nov 2025) EndedAt: 2025-11-14 15:38:19 -0500 (Fri, 14 Nov 2025) EllapsedTime: 37.1 seconds RetCode: 0 Status: OK