Package: EWCE Version: 1.18.0 Command: /home/biocbuild/bbs-3.22-bioc/R/bin/R CMD check --install=check:EWCE.install-out.txt --library=/home/biocbuild/bbs-3.22-bioc/R/site-library --timings EWCE_1.18.0.tar.gz StartedAt: 2025-11-16 23:41:50 -0500 (Sun, 16 Nov 2025) EndedAt: 2025-11-17 00:02:35 -0500 (Mon, 17 Nov 2025) EllapsedTime: 1245.3 seconds RetCode: 0 Status: OK CheckDir: EWCE.Rcheck Warnings: 0