Package: EWCE Version: 1.17.0 Command: /Library/Frameworks/R.framework/Resources/bin/R CMD check --install=check:EWCE.install-out.txt --library=/Library/Frameworks/R.framework/Resources/library --no-vignettes --timings EWCE_1.17.0.tar.gz StartedAt: 2025-07-27 20:41:35 -0400 (Sun, 27 Jul 2025) EndedAt: 2025-07-27 21:00:41 -0400 (Sun, 27 Jul 2025) EllapsedTime: 1146.0 seconds RetCode: 0 Status: OK CheckDir: EWCE.Rcheck Warnings: 0