Package: EWCE Version: 1.17.0 Command: rm -rf EWCE.buildbin-libdir && mkdir EWCE.buildbin-libdir && /Users/biocbuild/BBS/utils/build-universal.sh EWCE_1.17.0.tar.gz /Library/Frameworks/R.framework/Resources/bin/R EWCE.buildbin-libdir StartedAt: 2025-07-28 01:04:51 -0400 (Mon, 28 Jul 2025) EndedAt: 2025-07-28 01:05:44 -0400 (Mon, 28 Jul 2025) EllapsedTime: 53.2 seconds RetCode: 0 Status: OK PackageFile: EWCE_1.17.0.tgz PackageFileSize: 2.868 MiB