Package: EWCE Version: 1.18.0 Command: /Library/Frameworks/R.framework/Resources/bin/R CMD check --install=check:EWCE.install-out.txt --library=/Library/Frameworks/R.framework/Resources/library --no-vignettes --timings EWCE_1.18.0.tar.gz StartedAt: 2025-11-10 20:00:14 -0500 (Mon, 10 Nov 2025) EndedAt: 2025-11-10 20:08:14 -0500 (Mon, 10 Nov 2025) EllapsedTime: 479.9 seconds RetCode: 0 Status: OK CheckDir: EWCE.Rcheck Warnings: 0