Package: EMDomics Version: 2.40.0 Command: /home/biocbuild/R/R/bin/R CMD check --install=check:EMDomics.install-out.txt --library=/home/biocbuild/R/R/site-library --no-vignettes --timings EMDomics_2.40.0.tar.gz StartedAt: 2025-11-14 09:11:20 -0000 (Fri, 14 Nov 2025) EndedAt: 2025-11-14 09:13:01 -0000 (Fri, 14 Nov 2025) EllapsedTime: 101.1 seconds RetCode: 0 Status: OK CheckDir: EMDomics.Rcheck Warnings: 0