Package: EMDomics Version: 2.40.0 Command: /Library/Frameworks/R.framework/Resources/bin/R CMD INSTALL EMDomics StartedAt: 2025-11-03 15:18:30 -0500 (Mon, 03 Nov 2025) EndedAt: 2025-11-03 15:18:41 -0500 (Mon, 03 Nov 2025) EllapsedTime: 11.2 seconds RetCode: 0 Status: OK