Package: EMDomics Version: 2.40.0 Command: /Library/Frameworks/R.framework/Resources/bin/R CMD build --keep-empty-dirs --no-resave-data EMDomics StartedAt: 2025-11-03 16:54:57 -0500 (Mon, 03 Nov 2025) EndedAt: 2025-11-03 16:55:17 -0500 (Mon, 03 Nov 2025) EllapsedTime: 20.6 seconds RetCode: 0 Status: OK PackageFile: EMDomics_2.40.0.tar.gz PackageFileSize: 337.3 KiB