Package: EMDomics Version: 2.40.0 Command: /Library/Frameworks/R.framework/Resources/bin/R CMD build --keep-empty-dirs --no-resave-data EMDomics StartedAt: 2025-11-10 16:18:32 -0500 (Mon, 10 Nov 2025) EndedAt: 2025-11-10 16:18:39 -0500 (Mon, 10 Nov 2025) EllapsedTime: 7.1 seconds RetCode: 0 Status: OK PackageFile: EMDomics_2.40.0.tar.gz PackageFileSize: 338.5 KiB