Package: EMDomics Version: 2.40.0 Command: rm -rf EMDomics.buildbin-libdir && mkdir EMDomics.buildbin-libdir && /Users/biocbuild/BBS/utils/build-universal.sh EMDomics_2.40.0.tar.gz /Library/Frameworks/R.framework/Resources/bin/R EMDomics.buildbin-libdir StartedAt: 2025-11-10 23:19:02 -0500 (Mon, 10 Nov 2025) EndedAt: 2025-11-10 23:19:05 -0500 (Mon, 10 Nov 2025) EllapsedTime: 3.1 seconds RetCode: 0 Status: OK PackageFile: EMDomics_2.40.0.tgz PackageFileSize: 431.1 KiB