Package: EMDomics Version: 2.40.0 Maintainer: Sadhika Malladi and Daniel Schmolze MaintainerEmail: emd at schmolze.com git_url: https://git.bioconductor.org/packages/EMDomics git_branch: RELEASE_3_22 git_last_commit: 6076ee9 git_last_commit_date: 2025-10-29 10:26:01 -0500 (Wed, 29 Oct 2025)