Package: EGSEA Version: 1.37.0 Command: /home/biocbuild/R/R/bin/R CMD INSTALL EGSEA StartedAt: 2025-10-16 22:22:28 -0000 (Thu, 16 Oct 2025) EndedAt: 2025-10-16 22:23:41 -0000 (Thu, 16 Oct 2025) EllapsedTime: 73.1 seconds RetCode: 0 Status: OK